BEGIN:VCALENDAR
VERSION:2.0
PRODID:-//CDU-Bezirksfraktion Hamburg-Mitte - ECPv6.15.20//NONSGML v1.0//EN
CALSCALE:GREGORIAN
METHOD:PUBLISH
X-WR-CALNAME:CDU-Bezirksfraktion Hamburg-Mitte
X-ORIGINAL-URL:https://www.cdu-fraktion-hamburg-mitte.de/cms
X-WR-CALDESC:Veranstaltungen für CDU-Bezirksfraktion Hamburg-Mitte
REFRESH-INTERVAL;VALUE=DURATION:PT1H
X-Robots-Tag:noindex
X-PUBLISHED-TTL:PT1H
BEGIN:VTIMEZONE
TZID:Europe/Berlin
BEGIN:DAYLIGHT
TZOFFSETFROM:+0100
TZOFFSETTO:+0200
TZNAME:CEST
DTSTART:20200329T010000
END:DAYLIGHT
BEGIN:STANDARD
TZOFFSETFROM:+0200
TZOFFSETTO:+0100
TZNAME:CET
DTSTART:20201025T010000
END:STANDARD
BEGIN:DAYLIGHT
TZOFFSETFROM:+0100
TZOFFSETTO:+0200
TZNAME:CEST
DTSTART:20210328T010000
END:DAYLIGHT
BEGIN:STANDARD
TZOFFSETFROM:+0200
TZOFFSETTO:+0100
TZNAME:CET
DTSTART:20211031T010000
END:STANDARD
BEGIN:DAYLIGHT
TZOFFSETFROM:+0100
TZOFFSETTO:+0200
TZNAME:CEST
DTSTART:20220327T010000
END:DAYLIGHT
BEGIN:STANDARD
TZOFFSETFROM:+0200
TZOFFSETTO:+0100
TZNAME:CET
DTSTART:20221030T010000
END:STANDARD
END:VTIMEZONE
BEGIN:VEVENT
DTSTART;TZID=Europe/Berlin:20210803T173000
DTEND;TZID=Europe/Berlin:20210803T173000
DTSTAMP:20260419T223204
CREATED:20210429T133818Z
LAST-MODIFIED:20210429T133818Z
UID:11475-1628011800-1628011800@www.cdu-fraktion-hamburg-mitte.de
SUMMARY:Sitzung des Hauptausschusses - DIGITAL -
DESCRIPTION:
URL:https://www.cdu-fraktion-hamburg-mitte.de/cms/termin/sitzung-des-hauptausschusses-digital-5/
LOCATION:Bezirksversammlung Hamburg-Mitte\, Sitzungssaal der Bezirksversammlung\, Caffamacherreihe 1-3\, Hamburg\, 20355\, Deutschland
END:VEVENT
BEGIN:VEVENT
DTSTART;TZID=Europe/Berlin:20210811T180000
DTEND;TZID=Europe/Berlin:20210811T180000
DTSTAMP:20260419T223204
CREATED:20210429T133915Z
LAST-MODIFIED:20210429T133915Z
UID:11479-1628704800-1628704800@www.cdu-fraktion-hamburg-mitte.de
SUMMARY:Sitzung des Bauausschusses - DIGITAL -
DESCRIPTION:
URL:https://www.cdu-fraktion-hamburg-mitte.de/cms/termin/sitzung-des-bauausschusses-digital-6/
LOCATION:Bezirksversammlung Hamburg-Mitte\, Sitzungssaal der Bezirksversammlung\, Caffamacherreihe 1-3\, Hamburg\, 20355\, Deutschland
END:VEVENT
BEGIN:VEVENT
DTSTART;TZID=Europe/Berlin:20210812T180000
DTEND;TZID=Europe/Berlin:20210812T180000
DTSTAMP:20260419T223204
CREATED:20210714T094525Z
LAST-MODIFIED:20210714T094525Z
UID:11541-1628791200-1628791200@www.cdu-fraktion-hamburg-mitte.de
SUMMARY:Sitzung des Stadtplanungsausschusses - DIGITAL -
DESCRIPTION:
URL:https://www.cdu-fraktion-hamburg-mitte.de/cms/termin/sitzung-des-stadtplanungsausschusses-digital-5/
LOCATION:Bezirksversammlung Hamburg-Mitte\, Sitzungssaal der Bezirksversammlung\, Caffamacherreihe 1-3\, Hamburg\, 20355\, Deutschland
END:VEVENT
BEGIN:VEVENT
DTSTART;TZID=Europe/Berlin:20210830T180000
DTEND;TZID=Europe/Berlin:20210830T180000
DTSTAMP:20260419T223204
CREATED:20210714T094612Z
LAST-MODIFIED:20210714T094612Z
UID:11543-1630346400-1630346400@www.cdu-fraktion-hamburg-mitte.de
SUMMARY:Sitzung des Jugendhilfeausschusses - DIGITAL -
DESCRIPTION:
URL:https://www.cdu-fraktion-hamburg-mitte.de/cms/termin/sitzung-des-jugendhilfeausschusses-digital-5/
LOCATION:Bezirksversammlung Hamburg-Mitte\, Sitzungssaal der Bezirksversammlung\, Caffamacherreihe 1-3\, Hamburg\, 20355\, Deutschland
END:VEVENT
BEGIN:VEVENT
DTSTART;TZID=Europe/Berlin:20210831T173000
DTEND;TZID=Europe/Berlin:20210831T173000
DTSTAMP:20260419T223204
CREATED:20210714T094659Z
LAST-MODIFIED:20210714T094659Z
UID:11545-1630431000-1630431000@www.cdu-fraktion-hamburg-mitte.de
SUMMARY:Sitzung des Hauptausschusses - DIGITAL -
DESCRIPTION:
URL:https://www.cdu-fraktion-hamburg-mitte.de/cms/termin/sitzung-des-hauptausschusses-digital-6/
LOCATION:Bezirksversammlung Hamburg-Mitte\, Sitzungssaal der Bezirksversammlung\, Caffamacherreihe 1-3\, Hamburg\, 20355\, Deutschland
END:VEVENT
END:VCALENDAR